BEGIN:VCALENDAR
VERSION:2.0
PRODID:-//Sacramento Developer Collective - ECPv6.15.4//NONSGML v1.0//EN
CALSCALE:GREGORIAN
METHOD:PUBLISH
X-WR-CALNAME:Sacramento Developer Collective
X-ORIGINAL-URL:https://www.sacdevcollective.org
X-WR-CALDESC:Events for Sacramento Developer Collective
REFRESH-INTERVAL;VALUE=DURATION:PT1H
X-Robots-Tag:noindex
X-PUBLISHED-TTL:PT1H
BEGIN:VTIMEZONE
TZID:America/Los_Angeles
BEGIN:DAYLIGHT
TZOFFSETFROM:-0800
TZOFFSETTO:-0700
TZNAME:PDT
DTSTART:20200308T100000
END:DAYLIGHT
BEGIN:STANDARD
TZOFFSETFROM:-0700
TZOFFSETTO:-0800
TZNAME:PST
DTSTART:20201101T090000
END:STANDARD
END:VTIMEZONE
BEGIN:VEVENT
DTSTART;TZID=America/Los_Angeles:20200122T180000
DTEND;TZID=America/Los_Angeles:20200122T200000
DTSTAMP:20260421T072001
CREATED:20191219T184028Z
LAST-MODIFIED:20191219T184028Z
UID:3998-1579716000-1579723200@www.sacdevcollective.org
SUMMARY:PGJ Workshop: Game Engines 101
DESCRIPTION:Come learn about the ins and outs of modern game engines. Find out what works best for the game you want to make and possibly learn about some great niche engines with SCC Professor Pat Crandley.
URL:https://www.sacdevcollective.org/event/pgj-workshop-game-engines-101/
LOCATION:Hacker Lab\, 2533 R St Suite 120\, Sacramento\, CA\, 95816\, United States
CATEGORIES:Educational Workshops,PGJ6,Progressive Game Jam
ATTACH;FMTTYPE=image/jpeg:https://www.sacdevcollective.org/wp-content/uploads/2019/12/GameEngines101.jpg
ORGANIZER;CN="Sacramento Developer Collective":MAILTO:info@sacdevcollective.org
END:VEVENT
END:VCALENDAR