BEGIN:VCALENDAR
VERSION:2.0
PRODID:-//Sacramento Developer Collective - ECPv6.15.4//NONSGML v1.0//EN
CALSCALE:GREGORIAN
METHOD:PUBLISH
X-WR-CALNAME:Sacramento Developer Collective
X-ORIGINAL-URL:https://www.sacdevcollective.org
X-WR-CALDESC:Events for Sacramento Developer Collective
REFRESH-INTERVAL;VALUE=DURATION:PT1H
X-Robots-Tag:noindex
X-PUBLISHED-TTL:PT1H
BEGIN:VTIMEZONE
TZID:America/Los_Angeles
BEGIN:DAYLIGHT
TZOFFSETFROM:-0800
TZOFFSETTO:-0700
TZNAME:PDT
DTSTART:20190310T100000
END:DAYLIGHT
BEGIN:STANDARD
TZOFFSETFROM:-0700
TZOFFSETTO:-0800
TZNAME:PST
DTSTART:20191103T090000
END:STANDARD
END:VTIMEZONE
BEGIN:VEVENT
DTSTART;TZID=America/Los_Angeles:20190502T173000
DTEND;TZID=America/Los_Angeles:20190502T200000
DTSTAMP:20260425T165955
CREATED:20190417T151947Z
LAST-MODIFIED:20190423T024043Z
UID:3463-1556818200-1556827200@www.sacdevcollective.org
SUMMARY:Launch the Lab
DESCRIPTION:Square Root Academy is Launching Lab 7 and want you all there! Join us for our community introduction and STEM-tastic sneak-peek Open House. \nLab7 is a tech+creativity space which will operate both as a coworking facility and community education hub. Through Lab7 Square Root Academy will run FREE digital literacy and tech courses for the community in a effort to engineer equity and development. \nOur Launch the Lab event will feature food\, drink\, live music\, a photo booth\, a rocket launch and hands-on science experiments. We will also have interactive booths from our partners – Hope Tech Sacramento\, MakerHQ\, Sacramento Developer Collective and Bigger Than Us Arts – providing robotics\, video game creation\, live music and more! \nLaunch the Lab is our preview event\, purposed to introduce our vision to the community and fund-raise through Big Day of Giving to initiate the launch sequence. \nThe event is FREE and all are welcome!(Still need convincing?…There may be an appearance from some furry friends all geared up and ready for a space walk/wag.)
URL:https://www.sacdevcollective.org/event/launch-the-lab/
LOCATION:Lab 7\, 2417 21st Street\, Sacramento\, CA\, United States
ATTACH;FMTTYPE=image/png:https://www.sacdevcollective.org/wp-content/uploads/2019/04/Launch-the-Lab600p.png
END:VEVENT
END:VCALENDAR