BEGIN:VCALENDAR
VERSION:2.0
PRODID:-//Sacramento Developer Collective - ECPv6.15.4//NONSGML v1.0//EN
CALSCALE:GREGORIAN
METHOD:PUBLISH
X-ORIGINAL-URL:https://www.sacdevcollective.org
X-WR-CALDESC:Events for Sacramento Developer Collective
REFRESH-INTERVAL;VALUE=DURATION:PT1H
X-Robots-Tag:noindex
X-PUBLISHED-TTL:PT1H
BEGIN:VTIMEZONE
TZID:America/Los_Angeles
BEGIN:DAYLIGHT
TZOFFSETFROM:-0800
TZOFFSETTO:-0700
TZNAME:PDT
DTSTART:20240310T100000
END:DAYLIGHT
BEGIN:STANDARD
TZOFFSETFROM:-0700
TZOFFSETTO:-0800
TZNAME:PST
DTSTART:20241103T090000
END:STANDARD
END:VTIMEZONE
BEGIN:VEVENT
DTSTART;TZID=America/Los_Angeles:20240113T130000
DTEND;TZID=America/Los_Angeles:20240113T160000
DTSTAMP:20260423T024653
CREATED:20230914T021437Z
LAST-MODIFIED:20240125T052508Z
UID:10000049-1705150800-1705161600@www.sacdevcollective.org
SUMMARY:Progressive Game Jam 10.5
DESCRIPTION:Progressive Game Jam is in its tenth season! \nThis season will be a 7-month long jam running monthly from September to March. Pitch Day is on the last Saturday of the month\, but all the other meetups will be on the 2nd Saturday of the month. \nIf you’ve never participated in Progressive Game Jam\, it is a long-form game jam that lasts several months long. Teams are formed around a game idea that is pitched on day one and you work with that team throughout the jam to make a game. \nPGJ teams also get their 1st 6-ft table space at Capital Creative Showcase for free to show off the game they made.
URL:https://www.sacdevcollective.org/event/progressive-game-jam-10-5/
LOCATION:Innogrove\, 8153 Elk Grove Boulevard #20\, Elk Grove\, CA\, 95758\, United States
CATEGORIES:PGJ10,Progressive Game Jam
ATTACH;FMTTYPE=image/webp:https://www.sacdevcollective.org/wp-content/uploads/2024/01/PGJ10.webp
ORGANIZER;CN="Sacramento Developer Collective":MAILTO:info@sacdevcollective.org
END:VEVENT
END:VCALENDAR