BEGIN:VCALENDAR
VERSION:2.0
PRODID:-//Sacramento Developer Collective - ECPv6.15.4//NONSGML v1.0//EN
CALSCALE:GREGORIAN
METHOD:PUBLISH
X-WR-CALNAME:Sacramento Developer Collective
X-ORIGINAL-URL:https://www.sacdevcollective.org
X-WR-CALDESC:Events for Sacramento Developer Collective
REFRESH-INTERVAL;VALUE=DURATION:PT1H
X-Robots-Tag:noindex
X-PUBLISHED-TTL:PT1H
BEGIN:VTIMEZONE
TZID:America/Los_Angeles
BEGIN:DAYLIGHT
TZOFFSETFROM:-0800
TZOFFSETTO:-0700
TZNAME:PDT
DTSTART:20190310T100000
END:DAYLIGHT
BEGIN:STANDARD
TZOFFSETFROM:-0700
TZOFFSETTO:-0800
TZNAME:PST
DTSTART:20191103T090000
END:STANDARD
END:VTIMEZONE
BEGIN:VEVENT
DTSTART;TZID=America/Los_Angeles:20191115T170000
DTEND;TZID=America/Los_Angeles:20191117T170000
DTSTAMP:20260423T214441
CREATED:20191115T220015Z
LAST-MODIFIED:20191115T220015Z
UID:10000012-1573837200-1574010000@www.sacdevcollective.org
SUMMARY:Esports Game Jam
DESCRIPTION:In association with Capital Fight District and co-hosted by Hacker Lab\, Sacramento Developer Collective announces its first ever esports game jam. \nThe jam starts Friday\, November 15th at 5:00PM and ends Sunday\, November 17th at 3:00PM. At that time\, games will be judged by game development and gaming professionals\, and the winner will be featured in an esports competition hosted by Capital Fight District in April. \nWhere: Hacker Lab Midtown\, 2533 R Street\nWhen: Nov. 15th to Nov. 17th\nFriday\, 11/15 – 5pm – 9pm\nSaturday\, 11/16 – 9am – 9pm\nSunday\, 11/17 – 9am – 5pm \nThe winning team will be given an additional 3-4 months to complete the game where it will be featured in a 1v1 tournament style game play in late Spring\, 2020\, hosted by our friends at Capital Fight District.
URL:https://www.sacdevcollective.org/event/esports-game-jam/
LOCATION:Hacker Lab\, 2533 R St Suite 120\, Sacramento\, CA\, 95816\, United States
CATEGORIES:Community Events
ATTACH;FMTTYPE=image/jpeg:https://www.sacdevcollective.org/wp-content/uploads/2019/11/75402291_2550497131711902_829576996261462016_o.jpg
END:VEVENT
END:VCALENDAR