BEGIN:VCALENDAR
VERSION:2.0
PRODID:-//Sacramento Developer Collective - ECPv6.15.4//NONSGML v1.0//EN
CALSCALE:GREGORIAN
METHOD:PUBLISH
X-ORIGINAL-URL:https://www.sacdevcollective.org
X-WR-CALDESC:Events for Sacramento Developer Collective
REFRESH-INTERVAL;VALUE=DURATION:PT1H
X-Robots-Tag:noindex
X-PUBLISHED-TTL:PT1H
BEGIN:VTIMEZONE
TZID:America/Los_Angeles
BEGIN:DAYLIGHT
TZOFFSETFROM:-0800
TZOFFSETTO:-0700
TZNAME:PDT
DTSTART:20190310T100000
END:DAYLIGHT
BEGIN:STANDARD
TZOFFSETFROM:-0700
TZOFFSETTO:-0800
TZNAME:PST
DTSTART:20191103T090000
END:STANDARD
BEGIN:DAYLIGHT
TZOFFSETFROM:-0800
TZOFFSETTO:-0700
TZNAME:PDT
DTSTART:20200308T100000
END:DAYLIGHT
BEGIN:STANDARD
TZOFFSETFROM:-0700
TZOFFSETTO:-0800
TZNAME:PST
DTSTART:20201101T090000
END:STANDARD
BEGIN:DAYLIGHT
TZOFFSETFROM:-0800
TZOFFSETTO:-0700
TZNAME:PDT
DTSTART:20210314T100000
END:DAYLIGHT
BEGIN:STANDARD
TZOFFSETFROM:-0700
TZOFFSETTO:-0800
TZNAME:PST
DTSTART:20211107T090000
END:STANDARD
BEGIN:DAYLIGHT
TZOFFSETFROM:-0800
TZOFFSETTO:-0700
TZNAME:PDT
DTSTART:20220313T100000
END:DAYLIGHT
BEGIN:STANDARD
TZOFFSETFROM:-0700
TZOFFSETTO:-0800
TZNAME:PST
DTSTART:20221106T090000
END:STANDARD
END:VTIMEZONE
BEGIN:VEVENT
DTSTART;TZID=America/Los_Angeles:20220709T110000
DTEND;TZID=America/Los_Angeles:20220709T150000
DTSTAMP:20260424T154218
CREATED:20220511T143604Z
LAST-MODIFIED:20220511T144033Z
UID:10000029-1657364400-1657378800@www.sacdevcollective.org
SUMMARY:Progressive Game Jam S8E2
DESCRIPTION:The Progressive Game Jam (PGJ) is an annual long-form game jam run by the Sacramento Developer Collective designed to provide participants with a team and enough time necessary to make a quality video game. \nThe event is free and open to everyone. All skills are welcome\, whether you are a programmer\, artist\, level designer\, sound engineer\, storyteller\, or simply just want to help provide ideas for a game. That includes all skill-levels from novice to expert\, or maybe you are just learning and looking for a great place to start. Everyone is welcome. \n[separator title=”” icon=”” style=”normal” color=”” top=”” ][/separator] \nPGJ 2022 is the eighth consecutive season of Progressive Game Jam and this season will run for three consecutive months starting in June and running until August. Development may continue up to the Capital Creative Showcase on Sept. 10th\, 2022 where participants are invited to show off their games at the PGJ Spotlight pavilion at the showcase\, sponsored by Hacker Lab.
URL:https://www.sacdevcollective.org/event/progressive-game-jam-s8e2/
LOCATION:Hacker Lab\, 2533 R St Suite 120\, Sacramento\, CA\, 95816\, United States
CATEGORIES:PGJ8,Progressive Game Jam
ATTACH;FMTTYPE=image/png:https://www.sacdevcollective.org/wp-content/uploads/2019/04/PGJ_Logo_1280x1024.png
ORGANIZER;CN="Sacramento Developer Collective":MAILTO:info@sacdevcollective.org
END:VEVENT
BEGIN:VEVENT
DTSTART;TZID=America/Los_Angeles:20220611T110000
DTEND;TZID=America/Los_Angeles:20220611T150000
DTSTAMP:20260424T154218
CREATED:20220511T142808Z
LAST-MODIFIED:20220610T201000Z
UID:10000028-1654945200-1654959600@www.sacdevcollective.org
SUMMARY:Progressive Game Jam S8E1
DESCRIPTION:The Progressive Game Jam (PGJ) is an annual long-form game jam run by the Sacramento Developer Collective designed to provide participants with a team and enough time necessary to make a quality video game. \nThe event is free and open to everyone. All skills are welcome\, whether you are a programmer\, artist\, level designer\, sound engineer\, storyteller\, or simply just want to help provide ideas for a game. That includes all skill-levels from novice to expert\, or maybe you are just learning and looking for a great place to start. Everyone is welcome. \n[separator title=”” icon=”” style=”normal” color=”” top=”” ][/separator] \nPGJ 2022 is the eighth consecutive season of Progressive Game Jam and this season will run for three consecutive months starting in June and running until August. Development may continue up to the Capital Creative Showcase on Sept. 10th\, 2022 where participants are invited to show off their games at the PGJ Spotlight pavilion at the showcase\, sponsored by Hacker Lab. \nAs part of our hybrid in-person/virtual plan to resume events after the pandemic\, this event will also be broadcast live on our Discord Server for those that wish to attend virtually.
URL:https://www.sacdevcollective.org/event/progressive-game-jam-s8e1/
LOCATION:Hacker Lab\, 2533 R St Suite 120\, Sacramento\, CA\, 95816\, United States
CATEGORIES:PGJ8,Progressive Game Jam
ATTACH;FMTTYPE=image/png:https://www.sacdevcollective.org/wp-content/uploads/2019/04/PGJ_Logo_1280x1024.png
ORGANIZER;CN="Sacramento Developer Collective":MAILTO:info@sacdevcollective.org
END:VEVENT
BEGIN:VEVENT
DTSTART;TZID=America/Los_Angeles:20210807T140000
DTEND;TZID=America/Los_Angeles:20210807T160000
DTSTAMP:20260424T154218
CREATED:20210727T002130Z
LAST-MODIFIED:20210727T002130Z
UID:10000021-1628344800-1628352000@www.sacdevcollective.org
SUMMARY:PGJ7 Week 1
DESCRIPTION:PGJ7 (the abbreviated season) will occur through the month of August\, 2021. \nIn this first meeting of the official jam\, teams are expected to present their game project proposals and will receive feedback from the other participants and an official review from the Executive Producer. \nThis meeting will occur in-person at Hacker Lab (2533 R St. #120 in Sacramento) as well as online using Google Meet. Participants are welcome to attend this meeting in whichever capacity they choose. \nFor in-person attendance\, we ask that everyone reads and understands the latest public health guidance issued by the CDC and CDPH and follow the guidelines as they apply to you. If you are sick or have any symptoms\, we ask that you stay home or join the meeting virtually through Google Meet. \nPGJ7 Week 1\nSaturday\, August 7 · 2:00 – 4:00pm\nGoogle Meet joining info\nVideo call link: https://meet.google.com/ybd-jspf-est\nOr dial: ‪(US) +1 567-331-1102‬ PIN: ‪687 921 644‬#\nMore phone numbers: https://tel.meet/ybd-jspf-est?pin=9160068885742
URL:https://www.sacdevcollective.org/event/pgj7-week-1/
LOCATION:Hacker Lab\, 2533 R St Suite 120\, Sacramento\, CA\, 95816\, United States
CATEGORIES:PGJ7,Progressive Game Jam
ATTACH;FMTTYPE=image/png:https://www.sacdevcollective.org/wp-content/uploads/2021/07/PGJ7-Logo_white.png
ORGANIZER;CN="Sacramento Developer Collective":MAILTO:info@sacdevcollective.org
END:VEVENT
BEGIN:VEVENT
DTSTART;TZID=America/Los_Angeles:20210729T170000
DTEND;TZID=America/Los_Angeles:20210729T190000
DTSTAMP:20260424T154218
CREATED:20210712T040746Z
LAST-MODIFIED:20210727T002601Z
UID:10000020-1627578000-1627585200@www.sacdevcollective.org
SUMMARY:PGJ7 Kick-Off
DESCRIPTION:Progressive Game Jam 7 kicks off with a virtual conference on Thursday\, July 29th\, 2021 at 5:00pm. \nPGJ7 will be only 1 month long in 2021\, occurring through the month of Aug. Project ideation and presentations and team building will all occur at this kick-off meeting prior to the jam officially starting on Aug. 1. We strongly encourage our participants to take this time to get their team setup with the tools and processes they will need for the jam prior to the official launch. \nThere will be two in-person/virtual meetups for the PGJ teams in August. The first on Saturday\, Aug. 7th at 2:00pm at Hacker Lab in Sacramento where teams will present their project proposal and receive feedback and an official review from the Executive Producer. \nThe second in-person/virtual meetup will be held Saturday\, Aug. 28th where teams are expected to demo their progress and will receive feedback from other teams. \nThe official PGJ Slack server will once again be made available to PGJ teams and will be the hub for interaction with the Executive Producer and PGJ mentors as well as team collaboration if your team chooses to use Slack. \nThis virtual kick-off meeting will be held in Google Meet \nGoogle Meet joining info\nVideo call link: https://meet.google.com/hnd-xbtj-pdp\nOr dial: ‪(US) +1 978-706-0232‬ PIN: ‪277 667 597‬#\nMore phone numbers: https://tel.meet/hnd-xbtj-pdp?pin=1243164389875
URL:https://www.sacdevcollective.org/event/pgj7-kick-off/
LOCATION:CA
CATEGORIES:PGJ7,Progressive Game Jam
ATTACH;FMTTYPE=image/png:https://www.sacdevcollective.org/wp-content/uploads/2021/07/PGJ7-Logo_white.png
ORGANIZER;CN="Sacramento Developer Collective":MAILTO:info@sacdevcollective.org
END:VEVENT
BEGIN:VEVENT
DTSTART;TZID=America/Los_Angeles:20200122T180000
DTEND;TZID=America/Los_Angeles:20200122T200000
DTSTAMP:20260424T154218
CREATED:20191219T184028Z
LAST-MODIFIED:20191219T184028Z
UID:10000016-1579716000-1579723200@www.sacdevcollective.org
SUMMARY:PGJ Workshop: Game Engines 101
DESCRIPTION:Come learn about the ins and outs of modern game engines. Find out what works best for the game you want to make and possibly learn about some great niche engines with SCC Professor Pat Crandley.
URL:https://www.sacdevcollective.org/event/pgj-workshop-game-engines-101/
LOCATION:Hacker Lab\, 2533 R St Suite 120\, Sacramento\, CA\, 95816\, United States
CATEGORIES:Educational Workshops,PGJ6,Progressive Game Jam
ATTACH;FMTTYPE=image/jpeg:https://www.sacdevcollective.org/wp-content/uploads/2019/12/GameEngines101.jpg
ORGANIZER;CN="Sacramento Developer Collective":MAILTO:info@sacdevcollective.org
END:VEVENT
BEGIN:VEVENT
DTSTART;TZID=America/Los_Angeles:20190720T120000
DTEND;TZID=America/Los_Angeles:20190720T180000
DTSTAMP:20260424T154218
CREATED:20190603T210449Z
LAST-MODIFIED:20190603T210449Z
UID:10000090-1563624000-1563645600@www.sacdevcollective.org
SUMMARY:Progressive Game Jam Demo/Feedback Day
DESCRIPTION:This month’s game jam will include a demo/feedback session with our special guests from EA Capital Games. Don’t miss this opportunity to get valuable feedback on your progress and state of your game right before Capital Creative Showcase. \nIn its 5th year\, the Progressive Game Jam is an ongoing annual game jam designed to provide participants with a team and enough time necessary to make a quality video game in 9 months. \nThe Sacramento Developer Collective and Square One Clubs are once again hosting this year’s PGJ\, and we’ll provide guidance and mentoring\, and a place to meet once a month for the next 9 months. \nThe Progressive Game Jam is a 9 month long game jam where you work with a dedicated team on a single video game. The goal is to build as complete a video game as possible in that time\, and to gain valuable development skills\, and learn just what it takes to make a full video game. The Sacramento Developer Collective and Square One Clubs are dedicated to helping you along the way by providing guidance\, mentorship\, and support to help you achieve your goal. \nThis event is free and open to everyone. All skills are welcome\, whether you are a programmer\, artist\, level designer\, sound engineer\, storyteller\, or simply just want to help provide ideas for a game. That includes all skill-levels from novice to expert\, or maybe you are just learning and looking for a great place to start. Everyone is welcome. \nIf you have equipment or software\, you are encouraged to bring them. Laptops work great. Papers and pens do too! If you don’t\, that’s OK too. Your creative ideas and input are still valuable\, and usually someone on your team will share or let you work with them. Square One Clubs will provide enough electricity and high-speed Internet for everyone. We’ll also have whiteboards available for brainstorming ideas. \nFrom time to time\, we’ll have a sponsor bring in lunch\, but generally lunch is your responsibility. Check on the event pages for those lunch opportunities before you come. You are welcome to bring food and drink to eat\, and there are several venues in the area around Square One Clubs. We’ll have them posted for your convenience. \nWhile we encourage you to show up for the first event where games are pitched and teams are formed\, if you just can’t make it\, don’t worry. Teams tend to change a little throughout the event\, and it’s always possible to come in late and join a team. \nGood Luck to the Class of 2019!
URL:https://www.sacdevcollective.org/event/progressive-game-jam-demo-feedback-day-2/
LOCATION:Hacker Lab\, 2533 R St Suite 120\, Sacramento\, CA\, 95816\, United States
CATEGORIES:PGJ5,Progressive Game Jam
ATTACH;FMTTYPE=image/png:https://www.sacdevcollective.org/wp-content/uploads/2019/04/PGJ_Logo_1280x1024.png
ORGANIZER;CN="Sacramento Developer Collective":MAILTO:info@sacdevcollective.org
END:VEVENT
BEGIN:VEVENT
DTSTART;TZID=America/Los_Angeles:20190615T120000
DTEND;TZID=America/Los_Angeles:20190615T180000
DTSTAMP:20260424T154218
CREATED:20190603T210120Z
LAST-MODIFIED:20190603T210120Z
UID:10000008-1560600000-1560621600@www.sacdevcollective.org
SUMMARY:Progressive Game Jam
DESCRIPTION:Now extended until August! \nIn its 5th year\, the Progressive Game Jam is an ongoing annual game jam designed to provide participants with a team and enough time necessary to make a quality video game in 9 months. \nThe Sacramento Developer Collective and Square One Clubs are once again hosting this year’s PGJ\, and we’ll provide guidance and mentoring\, and a place to meet once a month for the next 9 months. \nThe Progressive Game Jam is a 9 month long game jam where you work with a dedicated team on a single video game. The goal is to build as complete a video game as possible in that time\, and to gain valuable development skills\, and learn just what it takes to make a full video game. The Sacramento Developer Collective and Square One Clubs are dedicated to helping you along the way by providing guidance\, mentorship\, and support to help you achieve your goal. \nThis event is free and open to everyone. All skills are welcome\, whether you are a programmer\, artist\, level designer\, sound engineer\, storyteller\, or simply just want to help provide ideas for a game. That includes all skill-levels from novice to expert\, or maybe you are just learning and looking for a great place to start. Everyone is welcome. \nIf you have equipment or software\, you are encouraged to bring them. Laptops work great. Papers and pens do too! If you don’t\, that’s OK too. Your creative ideas and input are still valuable\, and usually someone on your team will share or let you work with them. Square One Clubs will provide enough electricity and high-speed Internet for everyone. We’ll also have whiteboards available for brainstorming ideas. \nFrom time to time\, we’ll have a sponsor bring in lunch\, but generally lunch is your responsibility. Check on the event pages for those lunch opportunities before you come. You are welcome to bring food and drink to eat\, and there are several venues in the area around Square One Clubs. We’ll have them posted for your convenience. \nWhile we encourage you to show up for the first event where games are pitched and teams are formed\, if you just can’t make it\, don’t worry. Teams tend to change a little throughout the event\, and it’s always possible to come in late and join a team. \nGood Luck to the Class of 2019!
URL:https://www.sacdevcollective.org/event/progressive-game-jam-2/
LOCATION:Hacker Lab\, 2533 R St Suite 120\, Sacramento\, CA\, 95816\, United States
CATEGORIES:PGJ5,Progressive Game Jam
ATTACH;FMTTYPE=image/png:https://www.sacdevcollective.org/wp-content/uploads/2019/04/PGJ_Logo_1280x1024.png
ORGANIZER;CN="Sacramento Developer Collective":MAILTO:info@sacdevcollective.org
END:VEVENT
BEGIN:VEVENT
DTSTART;TZID=America/Los_Angeles:20190518T120000
DTEND;TZID=America/Los_Angeles:20190518T190000
DTSTAMP:20260424T154218
CREATED:20190422T231110Z
LAST-MODIFIED:20190508T235157Z
UID:10000005-1558180800-1558206000@www.sacdevcollective.org
SUMMARY:Progressive Game Jam
DESCRIPTION:Now extended until August! \nIn its 5th year\, the Progressive Game Jam is an ongoing annual game jam designed to provide participants with a team and enough time necessary to make a quality video game in 9 months. \nThe Sacramento Developer Collective and Square One Clubs are once again hosting this year’s PGJ\, and we’ll provide guidance and mentoring\, and a place to meet once a month for the next 9 months. \nThe Progressive Game Jam is a 9 month long game jam where you work with a dedicated team on a single video game. The goal is to build as complete a video game as possible in that time\, and to gain valuable development skills\, and learn just what it takes to make a full video game. The Sacramento Developer Collective and Square One Clubs are dedicated to helping you along the way by providing guidance\, mentorship\, and support to help you achieve your goal. \nThis event is free and open to everyone. All skills are welcome\, whether you are a programmer\, artist\, level designer\, sound engineer\, storyteller\, or simply just want to help provide ideas for a game. That includes all skill-levels from novice to expert\, or maybe you are just learning and looking for a great place to start. Everyone is welcome. \nIf you have equipment or software\, you are encouraged to bring them. Laptops work great. Papers and pens do too! If you don’t\, that’s OK too. Your creative ideas and input are still valuable\, and usually someone on your team will share or let you work with them. Square One Clubs will provide enough electricity and high-speed Internet for everyone. We’ll also have whiteboards available for brainstorming ideas. \nFrom time to time\, we’ll have a sponsor bring in lunch\, but generally lunch is your responsibility. Check on the event pages for those lunch opportunities before you come. You are welcome to bring food and drink to eat\, and there are several venues in the area around Square One Clubs. We’ll have them posted for your convenience. \nWhile we encourage you to show up for the first event where games are pitched and teams are formed\, if you just can’t make it\, don’t worry. Teams tend to change a little throughout the event\, and it’s always possible to come in late and join a team. \nGood Luck to the Class of 2019!
URL:https://www.sacdevcollective.org/event/progressive-game-jam/
LOCATION:Hacker Lab\, 2533 R St Suite 120\, Sacramento\, CA\, 95816\, United States
CATEGORIES:PGJ5,Progressive Game Jam
ATTACH;FMTTYPE=image/png:https://www.sacdevcollective.org/wp-content/uploads/2019/04/PGJ_Logo_1280x1024.png
ORGANIZER;CN="Sacramento Developer Collective":MAILTO:info@sacdevcollective.org
END:VEVENT
END:VCALENDAR