BEGIN:VCALENDAR
VERSION:2.0
PRODID:-//Sacramento Developer Collective - ECPv6.15.4//NONSGML v1.0//EN
CALSCALE:GREGORIAN
METHOD:PUBLISH
X-ORIGINAL-URL:https://www.sacdevcollective.org
X-WR-CALDESC:Events for Sacramento Developer Collective
REFRESH-INTERVAL;VALUE=DURATION:PT1H
X-Robots-Tag:noindex
X-PUBLISHED-TTL:PT1H
BEGIN:VTIMEZONE
TZID:America/Los_Angeles
BEGIN:DAYLIGHT
TZOFFSETFROM:-0800
TZOFFSETTO:-0700
TZNAME:PDT
DTSTART:20190310T100000
END:DAYLIGHT
BEGIN:STANDARD
TZOFFSETFROM:-0700
TZOFFSETTO:-0800
TZNAME:PST
DTSTART:20191103T090000
END:STANDARD
END:VTIMEZONE
BEGIN:VEVENT
DTSTART;TZID=America/Los_Angeles:20190713T100000
DTEND;TZID=America/Los_Angeles:20190714T180000
DTSTAMP:20260421T210417
CREATED:20190628T215941Z
LAST-MODIFIED:20190628T215941Z
UID:10000011-1563012000-1563127200@www.sacdevcollective.org
SUMMARY:GGJ Next Sacramento
DESCRIPTION:What is GGJ NEXT™? \nGGJ NEXT provides both educational opportunities to learn about game development and a yearly jam for young people age 12-17. \nThe GGJ NEXT jam aims to bring together talented young people within their school and community. It is a unique opportunity for students to learn new STEAM skills\, and improve their creative thinking and exploration in a safe space. \nThe GGJ NEXT jam will happen all over the globe based around a central theme. Over 50 locations worldwide will be hosting 1 to 5 day game jams in the month of July. Now young creators can be a part of the Global Game Jam sensation that’s been going on for over 10 years. \nPlease note! This will be a 2-day game jam from 10:00am – 6:00pm on Saturday\, July 13th & Sunday\, July 14th. Participants must be picked up no later than 6:00pm on each day. Please plan to arrive at least 15 minutes early for pickup. \nThe game jam is open to ages 12 – 17 \nA limited amount of computer resources will be available at the location. Participants may bring their own computer or laptop. \nThis event is Free courtesy of our sponsors. Lunch will be provided for the participants on both days.
URL:https://www.sacdevcollective.org/event/ggj-next-sacramento/
LOCATION:Lab 7\, 2417 21st Street\, Sacramento\, CA\, United States
CATEGORIES:GGJ Next
ATTACH;FMTTYPE=image/png:https://www.sacdevcollective.org/wp-content/uploads/2019/06/KeyArt.png
ORGANIZER;CN="Sacramento Developer Collective":MAILTO:info@sacdevcollective.org
END:VEVENT
END:VCALENDAR