BEGIN:VCALENDAR
VERSION:2.0
PRODID:-//Sacramento Developer Collective - ECPv6.15.4//NONSGML v1.0//EN
CALSCALE:GREGORIAN
METHOD:PUBLISH
X-ORIGINAL-URL:https://www.sacdevcollective.org
X-WR-CALDESC:Events for Sacramento Developer Collective
REFRESH-INTERVAL;VALUE=DURATION:PT1H
X-Robots-Tag:noindex
X-PUBLISHED-TTL:PT1H
BEGIN:VTIMEZONE
TZID:America/Los_Angeles
BEGIN:DAYLIGHT
TZOFFSETFROM:-0800
TZOFFSETTO:-0700
TZNAME:PDT
DTSTART:20200308T100000
END:DAYLIGHT
BEGIN:STANDARD
TZOFFSETFROM:-0700
TZOFFSETTO:-0800
TZNAME:PST
DTSTART:20201101T090000
END:STANDARD
BEGIN:DAYLIGHT
TZOFFSETFROM:-0800
TZOFFSETTO:-0700
TZNAME:PDT
DTSTART:20210314T100000
END:DAYLIGHT
BEGIN:STANDARD
TZOFFSETFROM:-0700
TZOFFSETTO:-0800
TZNAME:PST
DTSTART:20211107T090000
END:STANDARD
BEGIN:DAYLIGHT
TZOFFSETFROM:-0800
TZOFFSETTO:-0700
TZNAME:PDT
DTSTART:20220313T100000
END:DAYLIGHT
BEGIN:STANDARD
TZOFFSETFROM:-0700
TZOFFSETTO:-0800
TZNAME:PST
DTSTART:20221106T090000
END:STANDARD
BEGIN:DAYLIGHT
TZOFFSETFROM:-0800
TZOFFSETTO:-0700
TZNAME:PDT
DTSTART:20230312T100000
END:DAYLIGHT
BEGIN:STANDARD
TZOFFSETFROM:-0700
TZOFFSETTO:-0800
TZNAME:PST
DTSTART:20231105T090000
END:STANDARD
BEGIN:DAYLIGHT
TZOFFSETFROM:-0800
TZOFFSETTO:-0700
TZNAME:PDT
DTSTART:20240310T100000
END:DAYLIGHT
BEGIN:STANDARD
TZOFFSETFROM:-0700
TZOFFSETTO:-0800
TZNAME:PST
DTSTART:20241103T090000
END:STANDARD
BEGIN:DAYLIGHT
TZOFFSETFROM:-0800
TZOFFSETTO:-0700
TZNAME:PDT
DTSTART:20250309T100000
END:DAYLIGHT
BEGIN:STANDARD
TZOFFSETFROM:-0700
TZOFFSETTO:-0800
TZNAME:PST
DTSTART:20251102T090000
END:STANDARD
BEGIN:DAYLIGHT
TZOFFSETFROM:-0800
TZOFFSETTO:-0700
TZNAME:PDT
DTSTART:20260308T100000
END:DAYLIGHT
BEGIN:STANDARD
TZOFFSETFROM:-0700
TZOFFSETTO:-0800
TZNAME:PST
DTSTART:20261101T090000
END:STANDARD
END:VTIMEZONE
BEGIN:VEVENT
DTSTART;TZID=America/Los_Angeles:20260228T110000
DTEND;TZID=America/Los_Angeles:20260228T150000
DTSTAMP:20260421T071232
CREATED:20260124T203036Z
LAST-MODIFIED:20260124T203227Z
UID:10000161-1772276400-1772290800@www.sacdevcollective.org
SUMMARY:SDC Pitch Day
DESCRIPTION:Heading to GDC but feeling nervous about your pitch?Want to sharpen your presentation in a supportive\, low-pressure environment before the big show? \nSDC Pitch Day is your chance to: \n\n\nPractice your pitch live in front of a friendly audience \n\n\nGet real\, constructive feedback from industry professionals \n\n\nImprove your confidence\, clarity\, and stage presence \n\n\nConnect with other developers\, teams\, and creators \n\n\nOur last Pitch Day was a huge success—we even had developers receive job offers from people in attendance! \n📍 Location: 1102 Cruess Hall\, 375 California Street\, Davis\, CA 95616📝 Sign up here: https://forms.gle/MWLjmdYXEGrok6b7A \n🎮 All games welcome! Digital games\, tabletop games\, solo devs\, full teams—everyone is encouraged to participate. Each presenter will have a set amount of time to pitch\, followed by a short Q&A and feedback session. \nThere are no funding deals or pressure—this event is purely about helping you level up your pitch\, refine your message\, and feel more confident heading into GDC.
URL:https://www.sacdevcollective.org/event/sdc-pitch-day/
LOCATION:UC Davis\, Cruess Hall\, 1102 Cruess Hall\, Davis\, 95616\, United States
CATEGORIES:Community Events,Dev Days,Educational Workshops,Mixers,Partner Events
ATTACH;FMTTYPE=image/png:https://www.sacdevcollective.org/wp-content/uploads/2026/01/game_pitch_day-2025-cropped.png
ORGANIZER;CN="Sacramento Developer Collective":MAILTO:info@sacdevcollective.org
END:VEVENT
BEGIN:VEVENT
DTSTART;TZID=America/Los_Angeles:20251107T170000
DTEND;TZID=America/Los_Angeles:20251109T210000
DTSTAMP:20260421T071232
CREATED:20250920T163749Z
LAST-MODIFIED:20251106T041928Z
UID:10000158-1762534800-1762722000@www.sacdevcollective.org
SUMMARY:Tabletop & Board Game Jam
DESCRIPTION:What can you create in a weekend? Join SDC and Galaxy Games  for a 3-day Game Jam where teams design\, build\, and showcase a brand-new tabletop or board game around a surprise theme. \n\nFri\, Nov 7 | 5–9 PM – Kickoff + theme reveal\nSat\, Nov 8 | 11 AM–9 PM – Design\, create\, playtest\nSun\, Nov 9 | 11 AM–9 PM – Final push + presentations at 5 PM\n\nEntry is $40 for all three days\, with judges\, prizes\, and community showcases. Entry also includes access to our game play space with a library of 1200+ board and card games! Sign up here: https://stan.store/GalaxyGameCafe/p/tabletop-game-jam \nWant to playtest instead of create?\nCome Sunday at 5 PM to try the new games! Just $10 Game Space entry (free for GGC Members). No registration needed.
URL:https://www.sacdevcollective.org/event/tabletop-board-game-jam/
LOCATION:Galaxy Game Cafe\, 7700 Sunrise Blvd Suite 1900\, Citrus Heights\, 95610\, United States
CATEGORIES:ArtMix,Community Events,Dev Days,Game Jams,Partner Events
ATTACH;FMTTYPE=image/png:https://www.sacdevcollective.org/wp-content/uploads/2025/09/Game-Jam-scaled.png
ORGANIZER;CN="Sacramento Developer Collective":MAILTO:info@sacdevcollective.org
END:VEVENT
BEGIN:VEVENT
DTSTART;TZID=America/Los_Angeles:20200119T120000
DTEND;TZID=America/Los_Angeles:20200119T150000
DTSTAMP:20260421T071232
CREATED:20191218T223024Z
LAST-MODIFIED:20191218T223116Z
UID:10000015-1579435200-1579446000@www.sacdevcollective.org
SUMMARY:Dev Days at the Sacramento Central Library
DESCRIPTION:A meetup event where you can come chill with friends and make games! \nThis is a good opportunity to come meet your community members in a low stress environment while you work on gamedev or just chill out! \nBring games (digital or tabletop) to play for fun or play test your friend’s in development games!
URL:https://www.sacdevcollective.org/event/dev-days-at-the-sacramento-central-library/
LOCATION:Sacramento Central Library\, 828 I St.\, Sacramento\, CA\, 95814\, United States
CATEGORIES:Dev Days
ATTACH;FMTTYPE=image/png:https://www.sacdevcollective.org/wp-content/uploads/2019/12/MOSHED-2019-9-25-10-51-6.png
END:VEVENT
END:VCALENDAR