BEGIN:VCALENDAR
VERSION:2.0
PRODID:-//Sacramento Developer Collective - ECPv6.15.4//NONSGML v1.0//EN
CALSCALE:GREGORIAN
METHOD:PUBLISH
X-ORIGINAL-URL:https://www.sacdevcollective.org
X-WR-CALDESC:Events for Sacramento Developer Collective
REFRESH-INTERVAL;VALUE=DURATION:PT1H
X-Robots-Tag:noindex
X-PUBLISHED-TTL:PT1H
BEGIN:VTIMEZONE
TZID:America/Los_Angeles
BEGIN:DAYLIGHT
TZOFFSETFROM:-0800
TZOFFSETTO:-0700
TZNAME:PDT
DTSTART:20240310T100000
END:DAYLIGHT
BEGIN:STANDARD
TZOFFSETFROM:-0700
TZOFFSETTO:-0800
TZNAME:PST
DTSTART:20241103T090000
END:STANDARD
END:VTIMEZONE
BEGIN:VEVENT
DTSTART;TZID=America/Los_Angeles:20240420T110000
DTEND;TZID=America/Los_Angeles:20240420T170000
DTSTAMP:20260422T170847
CREATED:20240322T141651Z
LAST-MODIFIED:20240322T141651Z
UID:10000073-1713610800-1713632400@www.sacdevcollective.org
SUMMARY:Capital Creative Showcase 2024
DESCRIPTION:Brought to you by the Sacramento Developer Collective\, Capital Creative Showcase features the Sacramento valley’s video game developers and creative talents. It all starts at 11:00am on Saturday\, April 20th at the West Sacramento Community Center. \nCCS 2024 is the 6th annual CCS and SDC’s 10th annual exhibition event. Help us celebrate the anniversary by joining us for a Festival of Games. \nSee the many talents from several of our region’s schools in the 2nd annual Student Showcase including the graduates of our inaugural PGJ ED program\, along with the participants of the 10th Progressive Game Jam and the latest games from game developers across the region. \nGeneral admission is $15 online\, $20 at the door on the day of the event. Kids 12 and under are free when accompanied by a paying adult. \nDevelopers can register online. \nFor more information\, please visit: https://www.capitalcreativeshowcase.com
URL:https://www.sacdevcollective.org/event/capital-creative-showcase-2024/
LOCATION:West Sacramento Community Center\, 1075 W Capitol Ave\, West Sacramento\, CA\, 95691\, United States
CATEGORIES:CCS
ATTACH;FMTTYPE=image/webp:https://www.sacdevcollective.org/wp-content/uploads/2024/03/CCS-Logo.webp
ORGANIZER;CN="Sacramento Developer Collective":MAILTO:info@sacdevcollective.org
END:VEVENT
END:VCALENDAR