BEGIN:VCALENDAR
VERSION:2.0
PRODID:-//Sacramento Developer Collective - ECPv6.15.4//NONSGML v1.0//EN
CALSCALE:GREGORIAN
METHOD:PUBLISH
X-ORIGINAL-URL:https://www.sacdevcollective.org
X-WR-CALDESC:Events for Sacramento Developer Collective
REFRESH-INTERVAL;VALUE=DURATION:PT1H
X-Robots-Tag:noindex
X-PUBLISHED-TTL:PT1H
BEGIN:VTIMEZONE
TZID:America/Los_Angeles
BEGIN:DAYLIGHT
TZOFFSETFROM:-0800
TZOFFSETTO:-0700
TZNAME:PDT
DTSTART:20190310T100000
END:DAYLIGHT
BEGIN:STANDARD
TZOFFSETFROM:-0700
TZOFFSETTO:-0800
TZNAME:PST
DTSTART:20191103T090000
END:STANDARD
END:VTIMEZONE
BEGIN:VEVENT
DTSTART;TZID=America/Los_Angeles:20191208T100000
DTEND;TZID=America/Los_Angeles:20191208T170000
DTSTAMP:20260425T065002
CREATED:20191205T184933Z
LAST-MODIFIED:20191205T184933Z
UID:10000013-1575799200-1575824400@www.sacdevcollective.org
SUMMARY:SDC at Sac Gamers Expo
DESCRIPTION:The fifth anniversary of Sac Gamers Expo is here\, and Sacramento’s local indie developers will once again share their latest work in the Indie Developers Free-Play room. \nCome down to the expo to see Sacramento developers\, such as Paralore Studios\, Mythic Minds\, Tablestar Games\, and more. Make sure to stop by the Sacramento Developer Collective booth and ask about our upcoming events including Global Game Jam Sacramento and Progressive Game Jam. \nFor tickets and more information\, please visit the event site at www.sacgamersexpo.com \n 
URL:https://www.sacdevcollective.org/event/sdc-at-sac-gamers-expo/
LOCATION:Scottish Rite Center\, 6151 H St.\, Sacramento\, CA\, 95819\, United States
ATTACH;FMTTYPE=image/jpeg:https://www.sacdevcollective.org/wp-content/uploads/2019/12/web-banner-SGE.jpg
ORGANIZER;CN="Sac Gamers Expo":MAILTO:contact@sacgamersexpo.com
END:VEVENT
END:VCALENDAR